BEGIN:VCALENDAR
VERSION:2.0
PRODID:-//Plone.org//NONSGML plone.app.event//EN
X-WR-TIMEZONE:Europe/Rome
BEGIN:VEVENT
SUMMARY:Seminario "Il Pubblico Ministero nella Costituzione"
DTSTART;TZID=Europe/Rome;VALUE=DATE-TIME:20170517T170000
DTEND;TZID=Europe/Rome;VALUE=DATE-TIME:20170517T183000
DTSTAMP;VALUE=DATE-TIME:20260422T221521Z
UID:cd917778d3a24eefa5c14caae27884cd@sde.unibo.it
CREATED;VALUE=DATE-TIME:20170516T070326Z
LAST-MODIFIED;VALUE=DATE-TIME:20170516T070756Z
URL:https://sde.unibo.it/it/eventi/seminario-il-pubblico-ministero-nella-c
 ostituzione
END:VEVENT
BEGIN:VTIMEZONE
TZID:Europe/Rome
X-LIC-LOCATION:Europe/Rome
BEGIN:DAYLIGHT
DTSTART;VALUE=DATE-TIME:20170326T030000
TZNAME:CEST
TZOFFSETFROM:+0100
TZOFFSETTO:+0200
END:DAYLIGHT
END:VTIMEZONE
END:VCALENDAR
