BEGIN:VCALENDAR
VERSION:2.0
PRODID:-//Plone.org//NONSGML plone.app.event//EN
X-WR-TIMEZONE:Europe/Rome
BEGIN:VEVENT
SUMMARY:Seminario dal titolo "Quale sociologia serve per capire la societ
 à complessa?"
DTSTART;TZID=Europe/Rome;VALUE=DATE-TIME:20170411T110000
DTEND;TZID=Europe/Rome;VALUE=DATE-TIME:20170411T130000
DTSTAMP;VALUE=DATE-TIME:20260422T140514Z
UID:b0713137646e4669a279d43320a38b31@sde.unibo.it
CREATED;VALUE=DATE-TIME:20170320T074040Z
LAST-MODIFIED;VALUE=DATE-TIME:20170320T074055Z
URL:https://sde.unibo.it/it/eventi/seminario-dal-titolo-quale-sociologia-s
 erve-per-capire-la-societa-complessa
END:VEVENT
BEGIN:VTIMEZONE
TZID:Europe/Rome
X-LIC-LOCATION:Europe/Rome
BEGIN:DAYLIGHT
DTSTART;VALUE=DATE-TIME:20170326T030000
TZNAME:CEST
TZOFFSETFROM:+0100
TZOFFSETTO:+0200
END:DAYLIGHT
END:VTIMEZONE
END:VCALENDAR
