BEGIN:VCALENDAR
VERSION:2.0
PRODID:-//Plone.org//NONSGML plone.app.event//EN
X-WR-TIMEZONE:Europe/Rome
BEGIN:VEVENT
SUMMARY:Seminario "Conoscenza\, lavoro\, azione collettiva: ricerche a con
 fronto"
DTSTART;TZID=Europe/Rome;VALUE=DATE-TIME:20170522T143000
DTEND;TZID=Europe/Rome;VALUE=DATE-TIME:20170522T180000
DTSTAMP;VALUE=DATE-TIME:20260422T204629Z
UID:e07ecdc30b374b3195f44f35be5d3de5@sde.unibo.it
CREATED;VALUE=DATE-TIME:20170515T113006Z
DESCRIPTION:Seminario
LAST-MODIFIED;VALUE=DATE-TIME:20170515T113032Z
URL:https://sde.unibo.it/it/eventi/seminario-conoscenza-lavoro-azione-coll
 ettiva-ricerche-a-confronto
END:VEVENT
BEGIN:VTIMEZONE
TZID:Europe/Rome
X-LIC-LOCATION:Europe/Rome
BEGIN:DAYLIGHT
DTSTART;VALUE=DATE-TIME:20170326T030000
TZNAME:CEST
TZOFFSETFROM:+0100
TZOFFSETTO:+0200
END:DAYLIGHT
END:VTIMEZONE
END:VCALENDAR
