BEGIN:VCALENDAR
VERSION:2.0
PRODID:-//Plone.org//NONSGML plone.app.event//EN
X-WR-TIMEZONE:Europe/Rome
BEGIN:VEVENT
SUMMARY:Seminario: “The Social Enterprise Zoo: Shaping the Research Agen
 da”
DTSTART;VALUE=DATE:20161005
DTEND;VALUE=DATE:20161006
DTSTAMP;VALUE=DATE-TIME:20260422T204628Z
UID:48e05035685843948b89baee93f94300@sde.unibo.it
CREATED;VALUE=DATE-TIME:20160928T074253Z
DESCRIPTION:\nIntroduce: Prof. Andrea Bassi – Università di Bologna Rel
 atore:\nProf. Dennis R. Young – Center for Nonprofit Policy & Practice -
  Cleveland State University - USA
LAST-MODIFIED;VALUE=DATE-TIME:20160928T074303Z
URL:https://sde.unibo.it/it/eventi/seminario-201cthe-social-enterprise-zoo
 -shaping-the-research-agenda201d
END:VEVENT
END:VCALENDAR
