BEGIN:VCALENDAR
VERSION:2.0
PRODID:-//Plone.org//NONSGML plone.app.event//EN
X-WR-TIMEZONE:Europe/Rome
BEGIN:VEVENT
SUMMARY:SEMINARIO “Developing a quasi-market in criminal justice service
 s in England and Wales”
DTSTART;TZID=Europe/Rome;VALUE=DATE-TIME:20160512T110000
DTEND;TZID=Europe/Rome;VALUE=DATE-TIME:20160512T130000
DTSTAMP;VALUE=DATE-TIME:20260422T192003Z
UID:86a7ff5b65b04e75a090ea7bb167f015@sde.unibo.it
CREATED;VALUE=DATE-TIME:20160426T113227Z
LAST-MODIFIED;VALUE=DATE-TIME:20160426T113239Z
URL:https://sde.unibo.it/it/eventi/seminario-201cdeveloping-a-quasi-market
 -in-criminal-justice-services-in-england-and-wales201d
END:VEVENT
BEGIN:VTIMEZONE
TZID:Europe/Rome
X-LIC-LOCATION:Europe/Rome
BEGIN:DAYLIGHT
DTSTART;VALUE=DATE-TIME:20160327T030000
TZNAME:CEST
TZOFFSETFROM:+0100
TZOFFSETTO:+0200
END:DAYLIGHT
END:VTIMEZONE
END:VCALENDAR
