BEGIN:VCALENDAR
VERSION:2.0
PRODID:-//Plone.org//NONSGML plone.app.event//EN
X-WR-TIMEZONE:Europe/Rome
BEGIN:VEVENT
SUMMARY:Seminar: The EU directive on non-financial and diversity informati
 on: a new toothless tiger is born?
DTSTART;TZID=Europe/Rome;VALUE=DATE-TIME:20180419T110000
DTEND;TZID=Europe/Rome;VALUE=DATE-TIME:20180419T130000
DTSTAMP;VALUE=DATE-TIME:20260423T142914Z
UID:c640256045214b528f06a57797847142@sde.unibo.it
CREATED;VALUE=DATE-TIME:20180212T100310Z
DESCRIPTION:European Law PhD Programme - Department of  Sociology and busi
 ness Law-Bologna
LAST-MODIFIED;VALUE=DATE-TIME:20180212T100639Z
URL:https://sde.unibo.it/it/eventi/seminar-the-eu-directive-on-non-financi
 al-and-diversity-information-a-new-toothless-tiger-is-born
END:VEVENT
BEGIN:VTIMEZONE
TZID:Europe/Rome
X-LIC-LOCATION:Europe/Rome
BEGIN:DAYLIGHT
DTSTART;VALUE=DATE-TIME:20180325T030000
TZNAME:CEST
TZOFFSETFROM:+0100
TZOFFSETTO:+0200
END:DAYLIGHT
END:VTIMEZONE
END:VCALENDAR
