BEGIN:VCALENDAR
VERSION:2.0
PRODID:-//Plone.org//NONSGML plone.app.event//EN
X-WR-TIMEZONE:Europe/Rome
BEGIN:VEVENT
SUMMARY:SDE Lectures - 2° Edizione
DTSTART;TZID=Europe/Rome;VALUE=DATE-TIME:20220928T110000
DTEND;TZID=Europe/Rome;VALUE=DATE-TIME:20230504T100000
DTSTAMP;VALUE=DATE-TIME:20260425T145329Z
UID:fd402fc230334dd6a522542bbdaa0158@sde.unibo.it
CREATED;VALUE=DATE-TIME:20220914T090839Z
DESCRIPTION:Quest'anno il titolo scelto per il Ciclo di Seminari organizza
 to dal Dipartimento è "Transizioni.Diritto\, economia e società tra pers
 istenze e mutamenti".
LAST-MODIFIED;VALUE=DATE-TIME:20220923T110606Z
URL:https://sde.unibo.it/it/eventi/sde-lectures-2-edizione
END:VEVENT
BEGIN:VTIMEZONE
TZID:Europe/Rome
X-LIC-LOCATION:Europe/Rome
BEGIN:DAYLIGHT
DTSTART;VALUE=DATE-TIME:20220327T030000
TZNAME:CEST
TZOFFSETFROM:+0100
TZOFFSETTO:+0200
END:DAYLIGHT
BEGIN:DAYLIGHT
DTSTART;VALUE=DATE-TIME:20230326T030000
TZNAME:CEST
TZOFFSETFROM:+0100
TZOFFSETTO:+0200
END:DAYLIGHT
END:VTIMEZONE
END:VCALENDAR
