BEGIN:VCALENDAR
VERSION:2.0
PRODID:-//Plone.org//NONSGML plone.app.event//EN
X-WR-TIMEZONE:Europe/Rome
BEGIN:VEVENT
SUMMARY:Saperi pubblici
DTSTART;VALUE=DATE:20181001
DTEND;VALUE=DATE:20181003
DTSTAMP;VALUE=DATE-TIME:20260423T024518Z
UID:466972793cb248bf8aabf51779492e7e@sde.unibo.it
CREATED;VALUE=DATE-TIME:20180924T084203Z
LAST-MODIFIED;VALUE=DATE-TIME:20180924T084227Z
URL:https://sde.unibo.it/it/eventi/saperi-pubblici
END:VEVENT
END:VCALENDAR
