BEGIN:VCALENDAR
VERSION:2.0
PRODID:-//Plone.org//NONSGML plone.app.event//EN
X-WR-TIMEZONE:Europe/Rome
BEGIN:VEVENT
SUMMARY:Salvati con nome. Carcere e rieducazione nonviolenta: il modello d
 ell'isola di Gorgona 
DTSTART;TZID=Europe/Rome;VALUE=DATE-TIME:20180417T100000
DTEND;TZID=Europe/Rome;VALUE=DATE-TIME:20180417T123000
DTSTAMP;VALUE=DATE-TIME:20260423T162136Z
UID:107655b05dbb43cf8c29b00a8ed66348@sde.unibo.it
CREATED;VALUE=DATE-TIME:20180413T090500Z
LAST-MODIFIED;VALUE=DATE-TIME:20180413T091636Z
URL:https://sde.unibo.it/it/eventi/salvati-con-nome.-carcere-e-rieducazion
 e-violenta-il-modello-dellisola-di-gorgona
END:VEVENT
BEGIN:VTIMEZONE
TZID:Europe/Rome
X-LIC-LOCATION:Europe/Rome
BEGIN:DAYLIGHT
DTSTART;VALUE=DATE-TIME:20180325T030000
TZNAME:CEST
TZOFFSETFROM:+0100
TZOFFSETTO:+0200
END:DAYLIGHT
END:VTIMEZONE
END:VCALENDAR
