BEGIN:VCALENDAR
VERSION:2.0
PRODID:-//Plone.org//NONSGML plone.app.event//EN
X-WR-TIMEZONE:Europe/Rome
BEGIN:VEVENT
SUMMARY:Ritorno al credito responsabile - Convegno
DTSTART;VALUE=DATE:20180531
DTEND;VALUE=DATE:20180602
DTSTAMP;VALUE=DATE-TIME:20260422T204524Z
UID:45174f31d5d247d09ec8ad31a5f7b966@sde.unibo.it
CREATED;VALUE=DATE-TIME:20180522T112604Z
DESCRIPTION:Contratti bancari\, gestione del sovraindebitamento e rimedi
LAST-MODIFIED;VALUE=DATE-TIME:20180522T113105Z
URL:https://sde.unibo.it/it/eventi/ritorno-al-credito-responsabile-convegn
 o-1
END:VEVENT
END:VCALENDAR
