BEGIN:VCALENDAR
VERSION:2.0
PRODID:-//Plone.org//NONSGML plone.app.event//EN
X-WR-TIMEZONE:Europe/Rome
BEGIN:VEVENT
SUMMARY:Riscaldamento globale e nazionalismo
DTSTART;TZID=Europe/Rome;VALUE=DATE-TIME:20230328T150000
DTEND;TZID=Europe/Rome;VALUE=DATE-TIME:20230328T170000
DTSTAMP;VALUE=DATE-TIME:20260425T015535Z
UID:5ec4b1f5c251472c8ad8323ac28ff088@sde.unibo.it
CREATED;VALUE=DATE-TIME:20230301T173108Z
DESCRIPTION:Seminario a partire dal testo "Cambiamenti climatici. Antropoc
 ene e politica" (Mondadori\, 2022) Chair: Emanuele Leonardi. Relatore: Dan
 iele Conversi (autore del volume) Discussant: Giada Coleandro
LAST-MODIFIED;VALUE=DATE-TIME:20230301T173153Z
URL:https://sde.unibo.it/it/eventi/riscaldamento-globale-e-nazionalismo
END:VEVENT
BEGIN:VTIMEZONE
TZID:Europe/Rome
X-LIC-LOCATION:Europe/Rome
BEGIN:DAYLIGHT
DTSTART;VALUE=DATE-TIME:20230326T030000
TZNAME:CEST
TZOFFSETFROM:+0100
TZOFFSETTO:+0200
END:DAYLIGHT
END:VTIMEZONE
END:VCALENDAR
