BEGIN:VCALENDAR
VERSION:2.0
PRODID:-//Plone.org//NONSGML plone.app.event//EN
X-WR-TIMEZONE:Europe/Rome
BEGIN:VEVENT
SUMMARY:RICERCA SOCIOLOGICA\, ETICA E INTERVENTO SOCIALE: le prospettive d
 ella sociologia relazionale
DTSTART;TZID=Europe/Rome;VALUE=DATE-TIME:20150917T150000
DTEND;TZID=Europe/Rome;VALUE=DATE-TIME:20150918T163000
DTSTAMP;VALUE=DATE-TIME:20260422T221629Z
UID:7c26e763a01149f2a7b7f132e6b69820@sde.unibo.it
CREATED;VALUE=DATE-TIME:20150120T123437Z
DESCRIPTION:VII Seminario nazionale di Sociologia Relazionale\nDottorato d
 i ricerca in Sociologia e Ricerca Sociale \nCentro Studi sulla Innovazione
  Sociale (CESIS)\nUniversità di Bologna\n
LAST-MODIFIED;VALUE=DATE-TIME:20150120T123456Z
URL:https://sde.unibo.it/it/eventi/ricerca-sociologica-etica-e-intervento-
 sociale-le-prospettive-della-sociologia-relazionale
END:VEVENT
BEGIN:VTIMEZONE
TZID:Europe/Rome
X-LIC-LOCATION:Europe/Rome
BEGIN:DAYLIGHT
DTSTART;VALUE=DATE-TIME:20150329T030000
TZNAME:CEST
TZOFFSETFROM:+0100
TZOFFSETTO:+0200
END:DAYLIGHT
END:VTIMEZONE
END:VCALENDAR
