BEGIN:VCALENDAR
VERSION:2.0
PRODID:-//Plone.org//NONSGML plone.app.event//EN
X-WR-TIMEZONE:Europe/Rome
BEGIN:VEVENT
SUMMARY:Rethinking borderlands: (In)visible borders in Europe and Australi
 a
DTSTART;TZID=Europe/Rome;VALUE=DATE-TIME:20190612T143000
DTEND;TZID=Europe/Rome;VALUE=DATE-TIME:20190612T180000
DTSTAMP;VALUE=DATE-TIME:20260425T232829Z
UID:d49963283b1d466ca820069abc4c6941@sde.unibo.it
CREATED;VALUE=DATE-TIME:20190515T115126Z
DESCRIPTION:The comparative network on refugee externalisation policies
LAST-MODIFIED;VALUE=DATE-TIME:20190515T121213Z
URL:https://sde.unibo.it/it/eventi/rethinking-borderlands-in-visible-borde
 rs-in-europe-and-australia
END:VEVENT
BEGIN:VTIMEZONE
TZID:Europe/Rome
X-LIC-LOCATION:Europe/Rome
BEGIN:DAYLIGHT
DTSTART;VALUE=DATE-TIME:20190331T030000
TZNAME:CEST
TZOFFSETFROM:+0100
TZOFFSETTO:+0200
END:DAYLIGHT
END:VTIMEZONE
END:VCALENDAR
