BEGIN:VCALENDAR
VERSION:2.0
PRODID:-//Plone.org//NONSGML plone.app.event//EN
X-WR-TIMEZONE:Europe/Rome
BEGIN:VEVENT
SUMMARY:Research seminar on social and environematal disclosure
DTSTART;TZID=Europe/Rome;VALUE=DATE-TIME:20181002T100000
DTEND;TZID=Europe/Rome;VALUE=DATE-TIME:20181002T130000
DTSTAMP;VALUE=DATE-TIME:20260422T235749Z
UID:ab1a76fb8b8d4bf6b131d5b796cc710d@sde.unibo.it
CREATED;VALUE=DATE-TIME:20180928T092509Z
DESCRIPTION:by Prof. John Dumay\,\n\norganised by Prof. Farneti Federica\n
 \n\n\n\n
LAST-MODIFIED;VALUE=DATE-TIME:20180928T093024Z
URL:https://sde.unibo.it/it/eventi/research-seminar-on-social-and-environe
 matal-disclosure
END:VEVENT
BEGIN:VTIMEZONE
TZID:Europe/Rome
X-LIC-LOCATION:Europe/Rome
BEGIN:DAYLIGHT
DTSTART;VALUE=DATE-TIME:20180325T030000
TZNAME:CEST
TZOFFSETFROM:+0100
TZOFFSETTO:+0200
END:DAYLIGHT
END:VTIMEZONE
END:VCALENDAR
