BEGIN:VCALENDAR
VERSION:2.0
PRODID:-//Plone.org//NONSGML plone.app.event//EN
X-WR-TIMEZONE:Europe/Rome
BEGIN:VEVENT
SUMMARY:Reimagining mobilities - S/confinamenti
DTSTART;TZID=Europe/Rome;VALUE=DATE-TIME:20220420T150000
DTEND;TZID=Europe/Rome;VALUE=DATE-TIME:20220420T170000
DTSTAMP;VALUE=DATE-TIME:20260424T170606Z
UID:bd85c3dae482440e83e2abb9a7fbc647@sde.unibo.it
CREATED;VALUE=DATE-TIME:20220225T181903Z
DESCRIPTION:Maggiori informazioni nella locandina
LAST-MODIFIED;VALUE=DATE-TIME:20220225T181928Z
URL:https://sde.unibo.it/it/eventi/reimagining-mobilities-s-confinamenti
END:VEVENT
BEGIN:VTIMEZONE
TZID:Europe/Rome
X-LIC-LOCATION:Europe/Rome
BEGIN:DAYLIGHT
DTSTART;VALUE=DATE-TIME:20220327T030000
TZNAME:CEST
TZOFFSETFROM:+0100
TZOFFSETTO:+0200
END:DAYLIGHT
END:VTIMEZONE
END:VCALENDAR
