BEGIN:VCALENDAR
VERSION:2.0
PRODID:-//Plone.org//NONSGML plone.app.event//EN
X-WR-TIMEZONE:Europe/Rome
BEGIN:VEVENT
SUMMARY:Reimagining mobilities - Identità
DTSTART;TZID=Europe/Rome;VALUE=DATE-TIME:20220511T150000
DTEND;TZID=Europe/Rome;VALUE=DATE-TIME:20220511T170000
DTSTAMP;VALUE=DATE-TIME:20260425T040956Z
UID:de99c9ea90c7430691a286e11ff96b47@sde.unibo.it
CREATED;VALUE=DATE-TIME:20220225T182505Z
DESCRIPTION:Maggiori informazioni nella locandina allegata.
LAST-MODIFIED;VALUE=DATE-TIME:20220225T182505Z
URL:https://sde.unibo.it/it/eventi/reimagining-mobilities-identita
END:VEVENT
BEGIN:VTIMEZONE
TZID:Europe/Rome
X-LIC-LOCATION:Europe/Rome
BEGIN:DAYLIGHT
DTSTART;VALUE=DATE-TIME:20220327T030000
TZNAME:CEST
TZOFFSETFROM:+0100
TZOFFSETTO:+0200
END:DAYLIGHT
END:VTIMEZONE
END:VCALENDAR
