BEGIN:VCALENDAR
VERSION:2.0
PRODID:-//Plone.org//NONSGML plone.app.event//EN
X-WR-TIMEZONE:Europe/Rome
BEGIN:VEVENT
SUMMARY:Reimagining mobilities - Cura e corpi politici
DTSTART;TZID=Europe/Rome;VALUE=DATE-TIME:20220323T150000
DTEND;TZID=Europe/Rome;VALUE=DATE-TIME:20220323T170000
DTSTAMP;VALUE=DATE-TIME:20260425T015607Z
UID:3ea4de48c62e48ecb86453449aa87524@sde.unibo.it
CREATED;VALUE=DATE-TIME:20220225T181558Z
DESCRIPTION:Maggiori informazioni nella locandina allegata.
LAST-MODIFIED;VALUE=DATE-TIME:20220225T181626Z
URL:https://sde.unibo.it/it/eventi/reimagining-mobilities-cura-e-corpi-pol
 itici
END:VEVENT
BEGIN:VTIMEZONE
TZID:Europe/Rome
X-LIC-LOCATION:Europe/Rome
BEGIN:STANDARD
DTSTART;VALUE=DATE-TIME:20211031T020000
TZNAME:CET
TZOFFSETFROM:+0200
TZOFFSETTO:+0100
END:STANDARD
END:VTIMEZONE
END:VCALENDAR
