BEGIN:VCALENDAR
VERSION:2.0
PRODID:-//Plone.org//NONSGML plone.app.event//EN
X-WR-TIMEZONE:Europe/Rome
BEGIN:VEVENT
SUMMARY:Refugees and the crisis of responsibility   Prof. Lilie Chouliarak
 i
DTSTART;TZID=Europe/Rome;VALUE=DATE-TIME:20170410T163000
DTEND;TZID=Europe/Rome;VALUE=DATE-TIME:20170410T183000
DTSTAMP;VALUE=DATE-TIME:20260422T192004Z
UID:4a615d7556a448bda396b16676d46bd1@sde.unibo.it
CREATED;VALUE=DATE-TIME:20170327T135326Z
DESCRIPTION:Lilie Chouliaraki holds a 2017 Professorial Fellowship at the 
 Institute of Advanced Studies\, University of Bologna.\n
LAST-MODIFIED;VALUE=DATE-TIME:20170327T140453Z
URL:https://sde.unibo.it/it/eventi/refugees-and-the-crisis-of-responsibili
 ty-prof.-lilie-chouliaraki-2
END:VEVENT
BEGIN:VTIMEZONE
TZID:Europe/Rome
X-LIC-LOCATION:Europe/Rome
BEGIN:DAYLIGHT
DTSTART;VALUE=DATE-TIME:20170326T030000
TZNAME:CEST
TZOFFSETFROM:+0100
TZOFFSETTO:+0200
END:DAYLIGHT
END:VTIMEZONE
END:VCALENDAR
