BEGIN:VCALENDAR
VERSION:2.0
PRODID:-//Plone.org//NONSGML plone.app.event//EN
X-WR-TIMEZONE:Europe/Rome
BEGIN:VEVENT
SUMMARY:Reflections on the design and implementation of the European Banki
 ng Union
DTSTART;TZID=Europe/Rome;VALUE=DATE-TIME:20160917T083000
DTEND;TZID=Europe/Rome;VALUE=DATE-TIME:20160917T200000
DTSTAMP;VALUE=DATE-TIME:20260422T221522Z
UID:f7aac7dbfe9c45e28149105b6bc0f4ac@sde.unibo.it
CREATED;VALUE=DATE-TIME:20160915T085855Z
DESCRIPTION:hosted by Università degli Studi di Bologna and within the fr
 ame of 33rd annual conference of the European Association of Law and Econo
 mics
LAST-MODIFIED;VALUE=DATE-TIME:20160915T101250Z
URL:https://sde.unibo.it/it/eventi/reflections-on-the-design-and-implement
 ation-of-the-european-banking-union-1
END:VEVENT
BEGIN:VTIMEZONE
TZID:Europe/Rome
X-LIC-LOCATION:Europe/Rome
BEGIN:DAYLIGHT
DTSTART;VALUE=DATE-TIME:20160327T030000
TZNAME:CEST
TZOFFSETFROM:+0100
TZOFFSETTO:+0200
END:DAYLIGHT
END:VTIMEZONE
END:VCALENDAR
