BEGIN:VCALENDAR
VERSION:2.0
PRODID:-//Plone.org//NONSGML plone.app.event//EN
X-WR-TIMEZONE:Europe/Rome
BEGIN:VEVENT
SUMMARY:Recruiting Day: carriere nella moda 
DTSTART;VALUE=DATE:20181009
DTEND;VALUE=DATE:20181010
DTSTAMP;VALUE=DATE-TIME:20260423T194710Z
UID:c64f53c1295c49c38bdfcc1075a61971@sde.unibo.it
CREATED;VALUE=DATE-TIME:20180913T114241Z
LAST-MODIFIED;VALUE=DATE-TIME:20180913T114307Z
URL:https://sde.unibo.it/it/eventi/recruiting-day-carriere-nella-moda
END:VEVENT
END:VCALENDAR
