BEGIN:VCALENDAR
VERSION:2.0
PRODID:-//Plone.org//NONSGML plone.app.event//EN
X-WR-TIMEZONE:Europe/Rome
BEGIN:VEVENT
SUMMARY:Quarant’anni di sociologia del lavoro ritrovarsi per rinnovarsi 
DTSTART;TZID=Europe/Rome;VALUE=DATE-TIME:20180511T100000
DTEND;TZID=Europe/Rome;VALUE=DATE-TIME:20180511T133000
DTSTAMP;VALUE=DATE-TIME:20260422T204628Z
UID:978c11d876aa4821b3cd45cd4d88449c@sde.unibo.it
CREATED;VALUE=DATE-TIME:20180319T152713Z
DESCRIPTION:Meeting internazionale
LAST-MODIFIED;VALUE=DATE-TIME:20180319T152811Z
URL:https://sde.unibo.it/it/eventi/quarant2019anni-di-sociologia-del-lavor
 o-ritrovarsi-per-rinnovarsi
END:VEVENT
BEGIN:VTIMEZONE
TZID:Europe/Rome
X-LIC-LOCATION:Europe/Rome
BEGIN:DAYLIGHT
DTSTART;VALUE=DATE-TIME:20180325T030000
TZNAME:CEST
TZOFFSETFROM:+0100
TZOFFSETTO:+0200
END:DAYLIGHT
END:VTIMEZONE
END:VCALENDAR
