BEGIN:VCALENDAR
VERSION:2.0
PRODID:-//Plone.org//NONSGML plone.app.event//EN
X-WR-TIMEZONE:Europe/Rome
BEGIN:VEVENT
SUMMARY:Quando avere un lavoro non basta: i working poorin Italia
DTSTART;TZID=Europe/Rome;VALUE=DATE-TIME:20151112T130000
DTEND;TZID=Europe/Rome;VALUE=DATE-TIME:20151112T150000
DTSTAMP;VALUE=DATE-TIME:20260422T221522Z
UID:c53949211b00433881ee01372c10e71b@sde.unibo.it
CREATED;VALUE=DATE-TIME:20150415T082952Z
DESCRIPTION:ciclo di seminari\nOltre la superficie.Lo sguardo sociologico 
 sulle società contemporanee.\n
LAST-MODIFIED;VALUE=DATE-TIME:20150415T083821Z
URL:https://sde.unibo.it/it/eventi/quando-avere-un-lavoro-non-basta-i-work
 ing-poorin-italia
END:VEVENT
BEGIN:VTIMEZONE
TZID:Europe/Rome
X-LIC-LOCATION:Europe/Rome
BEGIN:STANDARD
DTSTART;VALUE=DATE-TIME:20151025T020000
TZNAME:CET
TZOFFSETFROM:+0200
TZOFFSETTO:+0100
END:STANDARD
END:VTIMEZONE
END:VCALENDAR
