BEGIN:VCALENDAR
VERSION:2.0
PRODID:-//Plone.org//NONSGML plone.app.event//EN
X-WR-TIMEZONE:Europe/Rome
BEGIN:VEVENT
SUMMARY:QUALI PROSPETTIVE PER IL REGIONALISMO DIFFERENZIATO?
DTSTART;TZID=Europe/Rome;VALUE=DATE-TIME:20191209T110000
DTEND;TZID=Europe/Rome;VALUE=DATE-TIME:20191209T143000
DTSTAMP;VALUE=DATE-TIME:20260423T215623Z
UID:78f2d0854c944b6cb1f02b826a7fec6d@sde.unibo.it
CREATED;VALUE=DATE-TIME:20191205T081813Z
LAST-MODIFIED;VALUE=DATE-TIME:20191205T081936Z
URL:https://sde.unibo.it/it/eventi/quali-prospettive-per-il-regionalismo-d
 ifferenziato-1
END:VEVENT
BEGIN:VTIMEZONE
TZID:Europe/Rome
X-LIC-LOCATION:Europe/Rome
BEGIN:STANDARD
DTSTART;VALUE=DATE-TIME:20191027T020000
TZNAME:CET
TZOFFSETFROM:+0200
TZOFFSETTO:+0100
END:STANDARD
END:VTIMEZONE
END:VCALENDAR
