BEGIN:VCALENDAR
VERSION:2.0
PRODID:-//Plone.org//NONSGML plone.app.event//EN
X-WR-TIMEZONE:Europe/Rome
BEGIN:VEVENT
SUMMARY:Quale rapporto tra media e carcere?
DTSTART;TZID=Europe/Rome;VALUE=DATE-TIME:20231025T130000
DTEND;TZID=Europe/Rome;VALUE=DATE-TIME:20231025T150000
DTSTAMP;VALUE=DATE-TIME:20260426T045233Z
UID:a408a24389a14581851ffba622593ee9@sde.unibo.it
CREATED;VALUE=DATE-TIME:20231016T133751Z
DESCRIPTION:Evento organizzato all'interno del progetto "Reimagining Mobil
 ities. Prospettive creative per reimmaginare mobilità\, confini e alterit
 à".
LAST-MODIFIED;VALUE=DATE-TIME:20231016T133751Z
URL:https://sde.unibo.it/it/eventi/quale-rapporto-tra-media-e-carcere
END:VEVENT
BEGIN:VTIMEZONE
TZID:Europe/Rome
X-LIC-LOCATION:Europe/Rome
BEGIN:DAYLIGHT
DTSTART;VALUE=DATE-TIME:20230326T030000
TZNAME:CEST
TZOFFSETFROM:+0100
TZOFFSETTO:+0200
END:DAYLIGHT
END:VTIMEZONE
END:VCALENDAR
