BEGIN:VCALENDAR
VERSION:2.0
PRODID:-//Plone.org//NONSGML plone.app.event//EN
X-WR-TIMEZONE:Europe/Rome
BEGIN:VEVENT
SUMMARY:PROIEZIONE The Golden Temple. Ultimate odyssey into desperate capi
 talism
DTSTART;TZID=Europe/Rome;VALUE=DATE-TIME:20161216T090000
DTEND;TZID=Europe/Rome;VALUE=DATE-TIME:20161216T110000
DTSTAMP;VALUE=DATE-TIME:20260422T192004Z
UID:0acc0d5ff4b4428a9abb7ca87b22499c@sde.unibo.it
CREATED;VALUE=DATE-TIME:20161201T120151Z
LAST-MODIFIED;VALUE=DATE-TIME:20161201T120204Z
URL:https://sde.unibo.it/it/eventi/proiezione-the-golden-temple.-ultimate-
 odyssey-into-desperate-capitalism
END:VEVENT
BEGIN:VTIMEZONE
TZID:Europe/Rome
X-LIC-LOCATION:Europe/Rome
BEGIN:STANDARD
DTSTART;VALUE=DATE-TIME:20161030T020000
TZNAME:CET
TZOFFSETFROM:+0200
TZOFFSETTO:+0100
END:STANDARD
END:VTIMEZONE
END:VCALENDAR
