BEGIN:VCALENDAR
VERSION:2.0
PRODID:-//Plone.org//NONSGML plone.app.event//EN
X-WR-TIMEZONE:Europe/Rome
BEGIN:VEVENT
SUMMARY:Programma conferenza "Urban Theory and Urban Praxis: Past\, Presen
 t and Possible Futures"
DTSTART;TZID=Europe/Rome;VALUE=DATE-TIME:20210127T150000
DTEND;TZID=Europe/Rome;VALUE=DATE-TIME:20210129T183000
DTSTAMP;VALUE=DATE-TIME:20260419T215934Z
UID:dce16228b968432eac545a7002221b75@sde.unibo.it
CREATED;VALUE=DATE-TIME:20210112T145827Z
DESCRIPTION:IV Midterm Conference della Research Network 37 - Urban Sociol
 ogy dell'ESA - European Sociological Association\, organizzata in collabor
 azione con il Dipartimento di Sociologia e Diritto dell'Economia.
LAST-MODIFIED;VALUE=DATE-TIME:20210112T150117Z
URL:https://sde.unibo.it/it/eventi/programma-conferenza-urban-theory-and-u
 rban-praxis-past-present-and-possible-futures
END:VEVENT
BEGIN:VTIMEZONE
TZID:Europe/Rome
X-LIC-LOCATION:Europe/Rome
BEGIN:STANDARD
DTSTART;VALUE=DATE-TIME:20201025T020000
TZNAME:CET
TZOFFSETFROM:+0200
TZOFFSETTO:+0100
END:STANDARD
END:VTIMEZONE
END:VCALENDAR
