BEGIN:VCALENDAR
VERSION:2.0
PRODID:-//Plone.org//NONSGML plone.app.event//EN
X-WR-TIMEZONE:Europe/Rome
BEGIN:VEVENT
SUMMARY:Prof. Anton Hemerijck (Vrije University Amsterdam e EUI Florence) 
   Assessing Social Investment Synergies
DTSTART;TZID=Europe/Rome;VALUE=DATE-TIME:20170323T151000
DTEND;TZID=Europe/Rome;VALUE=DATE-TIME:20170323T183000
DTSTAMP;VALUE=DATE-TIME:20260422T192003Z
UID:114f4f6801c042d089399dc3bee1a0b3@sde.unibo.it
CREATED;VALUE=DATE-TIME:20170309T131329Z
DESCRIPTION:Dottorato in Sociologia e Ricerca Sociale\n\nCiclo di Seminari
  2017\n"Social innovation and its discontents"\n
LAST-MODIFIED;VALUE=DATE-TIME:20170309T131344Z
URL:https://sde.unibo.it/it/eventi/prof.-anton-hemerijck-vrije-university-
 amsterdam-e-eui-florence-assessing-social-investment-synergies
END:VEVENT
BEGIN:VTIMEZONE
TZID:Europe/Rome
X-LIC-LOCATION:Europe/Rome
BEGIN:STANDARD
DTSTART;VALUE=DATE-TIME:20161030T020000
TZNAME:CET
TZOFFSETFROM:+0200
TZOFFSETTO:+0100
END:STANDARD
END:VTIMEZONE
END:VCALENDAR
