BEGIN:VCALENDAR
VERSION:2.0
PRODID:-//Plone.org//NONSGML plone.app.event//EN
X-WR-TIMEZONE:Europe/Rome
BEGIN:VEVENT
SUMMARY:Processi migratori tra dimensione internazionale e locale: una pro
 spettiva sociologica
DTSTART;TZID=Europe/Rome;VALUE=DATE-TIME:20161125T093000
DTEND;TZID=Europe/Rome;VALUE=DATE-TIME:20161125T173000
DTSTAMP;VALUE=DATE-TIME:20260422T185500Z
UID:81830cb5462143bb8e27f46b64a6b49a@sde.unibo.it
CREATED;VALUE=DATE-TIME:20161112T163826Z
DESCRIPTION:Conferenza del Corso di Laurea Triennale in Sociologia \nCampu
 s di Forlì \nScuola di Scienze Politiche \nDipartimento di Sociologia e D
 iritto dell’economia \n
LAST-MODIFIED;VALUE=DATE-TIME:20161112T163834Z
URL:https://sde.unibo.it/it/eventi/processi-migratori-tra-dimensione-inter
 nazionale-e-locale-una-prospettiva-sociologica
END:VEVENT
BEGIN:VTIMEZONE
TZID:Europe/Rome
X-LIC-LOCATION:Europe/Rome
BEGIN:STANDARD
DTSTART;VALUE=DATE-TIME:20161030T020000
TZNAME:CET
TZOFFSETFROM:+0200
TZOFFSETTO:+0100
END:STANDARD
END:VTIMEZONE
END:VCALENDAR
