BEGIN:VCALENDAR
VERSION:2.0
PRODID:-//Plone.org//NONSGML plone.app.event//EN
X-WR-TIMEZONE:Europe/Rome
BEGIN:VEVENT
SUMMARY:Presentazione volume: Prospettive di diritto societario europeo
DTSTART;TZID=Europe/Rome;VALUE=DATE-TIME:20170327T130000
DTEND;TZID=Europe/Rome;VALUE=DATE-TIME:20170327T150000
DTSTAMP;VALUE=DATE-TIME:20260422T124811Z
UID:ad7a0c7c9db14c69bde5f301019661e4@sde.unibo.it
CREATED;VALUE=DATE-TIME:20170326T144050Z
DESCRIPTION:Una conversazione a più voci\nin occasione della presentazion
 e del volume\nDiritto societario europeo e internazionale
LAST-MODIFIED;VALUE=DATE-TIME:20170326T144102Z
URL:https://sde.unibo.it/it/eventi/presentazione-volume-prospettive-di-dir
 itto-societario-europeo-1
END:VEVENT
BEGIN:VTIMEZONE
TZID:Europe/Rome
X-LIC-LOCATION:Europe/Rome
BEGIN:DAYLIGHT
DTSTART;VALUE=DATE-TIME:20170326T030000
TZNAME:CEST
TZOFFSETFROM:+0100
TZOFFSETTO:+0200
END:DAYLIGHT
END:VTIMEZONE
END:VCALENDAR
