BEGIN:VCALENDAR
VERSION:2.0
PRODID:-//Plone.org//NONSGML plone.app.event//EN
X-WR-TIMEZONE:Europe/Rome
BEGIN:VEVENT
SUMMARY:Presentazione volume: Da Quel Giorno mia madre ha smesso di cantar
 e. di Sandra Sicurella
DTSTART;TZID=Europe/Rome;VALUE=DATE-TIME:20170313T111000
DTEND;TZID=Europe/Rome;VALUE=DATE-TIME:20170313T131000
DTSTAMP;VALUE=DATE-TIME:20260422T162709Z
UID:b50f67d97d6145acb73f664641ffbc98@sde.unibo.it
CREATED;VALUE=DATE-TIME:20170308T111704Z
DESCRIPTION:Storie di mafia. Giappichelli 2017\nPresentazione del volume d
 i Sandra Sicurella 
LAST-MODIFIED;VALUE=DATE-TIME:20170308T111723Z
URL:https://sde.unibo.it/it/eventi/presentazione-volume-da-quel-giorno-mia
 -madre-ha-smesso-di-cantare.-di-sandra-sicurella
END:VEVENT
BEGIN:VTIMEZONE
TZID:Europe/Rome
X-LIC-LOCATION:Europe/Rome
BEGIN:STANDARD
DTSTART;VALUE=DATE-TIME:20161030T020000
TZNAME:CET
TZOFFSETFROM:+0200
TZOFFSETTO:+0100
END:STANDARD
END:VTIMEZONE
END:VCALENDAR
