BEGIN:VCALENDAR
VERSION:2.0
PRODID:-//Plone.org//NONSGML plone.app.event//EN
X-WR-TIMEZONE:Europe/Rome
BEGIN:VEVENT
SUMMARY:Presentazione del volume di Maria Milli Di Virgilio "Codice per l'
 assistente sociale - legislazione e casistica"
DTSTART;TZID=Europe/Rome;VALUE=DATE-TIME:20170405T100000
DTEND;TZID=Europe/Rome;VALUE=DATE-TIME:20170405T130000
DTSTAMP;VALUE=DATE-TIME:20260422T204524Z
UID:b5d51087997a412dbda9224c57c879fe@sde.unibo.it
CREATED;VALUE=DATE-TIME:20170331T105346Z
LAST-MODIFIED;VALUE=DATE-TIME:20170331T105407Z
URL:https://sde.unibo.it/it/eventi/presentazione-del-volume-di-maria-milli
 -di-virgilio-codice-per-lassistente-sociale-legislazione-e-casistica
END:VEVENT
BEGIN:VTIMEZONE
TZID:Europe/Rome
X-LIC-LOCATION:Europe/Rome
BEGIN:DAYLIGHT
DTSTART;VALUE=DATE-TIME:20170326T030000
TZNAME:CEST
TZOFFSETFROM:+0100
TZOFFSETTO:+0200
END:DAYLIGHT
END:VTIMEZONE
END:VCALENDAR
