BEGIN:VCALENDAR
VERSION:2.0
PRODID:-//Plone.org//NONSGML plone.app.event//EN
X-WR-TIMEZONE:Europe/Rome
BEGIN:VEVENT
SUMMARY:Presentazione del libro storie di vita di migranti. Un percorso di
  empowerment a cura di Acli provinciali di Bologna
DTSTART;VALUE=DATE:20180419
DTEND;VALUE=DATE:20180420
DTSTAMP;VALUE=DATE-TIME:20260422T204630Z
UID:c3636c426ea041ed8c57217746baadba@sde.unibo.it
CREATED;VALUE=DATE-TIME:20180410T114137Z
DESCRIPTION:Dialogano con gli autori:\nl'Arcivescovo di Bologna Matteo Mar
 ia Zuppi\;\nIl Direttore di Avvenire Nazionale Marco Tarquinio.
LAST-MODIFIED;VALUE=DATE-TIME:20180410T114928Z
URL:https://sde.unibo.it/it/eventi/presentazione-del-libro-storie-di-vita-
 di-migranti.-un-percorso-di-empowerment
END:VEVENT
END:VCALENDAR
