BEGIN:VCALENDAR
VERSION:2.0
PRODID:-//Plone.org//NONSGML plone.app.event//EN
X-WR-TIMEZONE:Europe/Rome
BEGIN:VEVENT
SUMMARY:Presentazione del libro PUBBLICITÀ E VALORI
DTSTART;TZID=Europe/Rome;VALUE=DATE-TIME:20160518T130000
DTEND;TZID=Europe/Rome;VALUE=DATE-TIME:20160518T150000
DTSTAMP;VALUE=DATE-TIME:20260422T202756Z
UID:3e58cf2ce5794b9681a3a63300fa0fbd@sde.unibo.it
CREATED;VALUE=DATE-TIME:20160513T121816Z
LAST-MODIFIED;VALUE=DATE-TIME:20160513T121827Z
URL:https://sde.unibo.it/it/eventi/presentazione-del-libro-pubblicita-e-va
 lori
END:VEVENT
BEGIN:VTIMEZONE
TZID:Europe/Rome
X-LIC-LOCATION:Europe/Rome
BEGIN:DAYLIGHT
DTSTART;VALUE=DATE-TIME:20160327T030000
TZNAME:CEST
TZOFFSETFROM:+0100
TZOFFSETTO:+0200
END:DAYLIGHT
END:VTIMEZONE
END:VCALENDAR
