BEGIN:VCALENDAR
VERSION:2.0
PRODID:-//Plone.org//NONSGML plone.app.event//EN
X-WR-TIMEZONE:Europe/Rome
BEGIN:VEVENT
SUMMARY:Presentazione del libro: "Le agenzie decentrate dell’Unione Euro
 pea" di Carlo Tovo
DTSTART;TZID=Europe/Rome;VALUE=DATE-TIME:20170517T130000
DTEND;TZID=Europe/Rome;VALUE=DATE-TIME:20170517T153000
DTSTAMP;VALUE=DATE-TIME:20260422T221642Z
UID:692f0216d0264f9ea103556f4fc8e23c@sde.unibo.it
CREATED;VALUE=DATE-TIME:20170510T073728Z
DESCRIPTION:Una conversazione a più voci in occasione della presentazione
  del volume. Ne discutono assieme all’Autore Carlo Tovo\, Marco Lamandin
 i\, Giacomo Di Federico\, David Ramos Muñoz.\n\n
LAST-MODIFIED;VALUE=DATE-TIME:20170510T080827Z
URL:https://sde.unibo.it/it/eventi/presentazione-del-libro-le-agenzie-dece
 ntrate-dell2019unione-europea-di-carlo-tovo
END:VEVENT
BEGIN:VTIMEZONE
TZID:Europe/Rome
X-LIC-LOCATION:Europe/Rome
BEGIN:DAYLIGHT
DTSTART;VALUE=DATE-TIME:20170326T030000
TZNAME:CEST
TZOFFSETFROM:+0100
TZOFFSETTO:+0200
END:DAYLIGHT
END:VTIMEZONE
END:VCALENDAR
