BEGIN:VCALENDAR
VERSION:2.0
PRODID:-//Plone.org//NONSGML plone.app.event//EN
X-WR-TIMEZONE:Europe/Rome
BEGIN:VEVENT
SUMMARY:Presentazione del libro:"Comunità e Cooperazione. Un intervento s
 ul benessere psicologico"
DTSTART;TZID=Europe/Rome;VALUE=DATE-TIME:20161012T150000
DTEND;TZID=Europe/Rome;VALUE=DATE-TIME:20161012T170000
DTSTAMP;VALUE=DATE-TIME:20260422T185640Z
UID:b1347976252e4684b4d8c464a95ed934@sde.unibo.it
CREATED;VALUE=DATE-TIME:20161003T074930Z
LAST-MODIFIED;VALUE=DATE-TIME:20161003T075834Z
URL:https://sde.unibo.it/it/eventi/presentazione-del-libro-comunita-e-coop
 erazione.-un-intervento-sul-benessere-psicologico
END:VEVENT
BEGIN:VTIMEZONE
TZID:Europe/Rome
X-LIC-LOCATION:Europe/Rome
BEGIN:DAYLIGHT
DTSTART;VALUE=DATE-TIME:20160327T030000
TZNAME:CEST
TZOFFSETFROM:+0100
TZOFFSETTO:+0200
END:DAYLIGHT
END:VTIMEZONE
END:VCALENDAR
