BEGIN:VCALENDAR
VERSION:2.0
PRODID:-//Plone.org//NONSGML plone.app.event//EN
X-WR-TIMEZONE:Europe/Rome
BEGIN:VEVENT
SUMMARY:POPULAR CULTURE AND POLITICS OF FEAR - J. Hemres 
DTSTART;TZID=Europe/Rome;VALUE=DATE-TIME:20180119T100000
DTEND;TZID=Europe/Rome;VALUE=DATE-TIME:20180119T130000
DTSTAMP;VALUE=DATE-TIME:20260422T190911Z
UID:5d23fb03f2604233ad713abc4f2b8b31@sde.unibo.it
CREATED;VALUE=DATE-TIME:20180108T125628Z
DESCRIPTION:ISA TOPIC 2017 Game of Fears
LAST-MODIFIED;VALUE=DATE-TIME:20180108T125639Z
URL:https://sde.unibo.it/it/eventi/popular-culture-and-politics-of-fear-j.
 -hemres
END:VEVENT
BEGIN:VTIMEZONE
TZID:Europe/Rome
X-LIC-LOCATION:Europe/Rome
BEGIN:STANDARD
DTSTART;VALUE=DATE-TIME:20171029T020000
TZNAME:CET
TZOFFSETFROM:+0200
TZOFFSETTO:+0100
END:STANDARD
END:VTIMEZONE
END:VCALENDAR
