BEGIN:VCALENDAR
VERSION:2.0
PRODID:-//Plone.org//NONSGML plone.app.event//EN
X-WR-TIMEZONE:Europe/Rome
BEGIN:VEVENT
SUMMARY:Political Ecology of Work: Drivers and Barriers of the Just Transi
 tion
DTSTART;TZID=Europe/Rome;VALUE=DATE-TIME:20240418T093000
DTEND;TZID=Europe/Rome;VALUE=DATE-TIME:20240418T130000
DTSTAMP;VALUE=DATE-TIME:20260421T125343Z
UID:2867189d6ce44ff789a32f5abba2486d@sde.unibo.it
CREATED;VALUE=DATE-TIME:20240404T131503Z
DESCRIPTION:Link per seguire online: https://tinyurl.com/36drxczb
LAST-MODIFIED;VALUE=DATE-TIME:20240404T131503Z
URL:https://sde.unibo.it/it/eventi/political-ecology-of-work-drivers-and-b
 arriers-of-the-just-transition
END:VEVENT
BEGIN:VTIMEZONE
TZID:Europe/Rome
X-LIC-LOCATION:Europe/Rome
BEGIN:DAYLIGHT
DTSTART;VALUE=DATE-TIME:20240331T030000
TZNAME:CEST
TZOFFSETFROM:+0100
TZOFFSETTO:+0200
END:DAYLIGHT
END:VTIMEZONE
END:VCALENDAR
