BEGIN:VCALENDAR
VERSION:2.0
PRODID:-//Plone.org//NONSGML plone.app.event//EN
X-WR-TIMEZONE:Europe/Rome
BEGIN:VEVENT
SUMMARY:PERCEPTIONS Final Symposium
DTSTART;VALUE=DATE:20230119
DTEND;VALUE=DATE:20230121
DTSTAMP;VALUE=DATE-TIME:20260419T161010Z
UID:bfa607c2c2f34147b24768f494c1c596@sde.unibo.it
CREATED;VALUE=DATE-TIME:20230117T150624Z
DESCRIPTION:This project has received funding from the European Union’s 
 Horizon 2020 research and innovation programme.
LAST-MODIFIED;VALUE=DATE-TIME:20230117T151022Z
URL:https://sde.unibo.it/it/eventi/perceptions-final-symposium
END:VEVENT
END:VCALENDAR
