BEGIN:VCALENDAR
VERSION:2.0
PRODID:-//Plone.org//NONSGML plone.app.event//EN
X-WR-TIMEZONE:Europe/Rome
BEGIN:VEVENT
SUMMARY:PARTISPACE - spaces and styles of participation - Consortium meeti
 ng in Bologna
DTSTART;TZID=Europe/Rome;VALUE=DATE-TIME:20170509T140000
DTEND;TZID=Europe/Rome;VALUE=DATE-TIME:20170512T180000
DTSTAMP;VALUE=DATE-TIME:20260422T204629Z
UID:800c53ff11e84982b69a070de0767082@sde.unibo.it
CREATED;VALUE=DATE-TIME:20170505T080258Z
LAST-MODIFIED;VALUE=DATE-TIME:20170505T080312Z
URL:https://sde.unibo.it/it/eventi/partispace-spaces-and-styles-of-partici
 pation-consortium-meeting-in-bologna
END:VEVENT
BEGIN:VTIMEZONE
TZID:Europe/Rome
X-LIC-LOCATION:Europe/Rome
BEGIN:DAYLIGHT
DTSTART;VALUE=DATE-TIME:20170326T030000
TZNAME:CEST
TZOFFSETFROM:+0100
TZOFFSETTO:+0200
END:DAYLIGHT
END:VTIMEZONE
END:VCALENDAR
