BEGIN:VCALENDAR
VERSION:2.0
PRODID:-//Plone.org//NONSGML plone.app.event//EN
X-WR-TIMEZONE:Europe/Rome
BEGIN:VEVENT
SUMMARY:Participation and resistance through arts and culture
DTSTART;TZID=Europe/Rome;VALUE=DATE-TIME:20211215T170000
DTEND;TZID=Europe/Rome;VALUE=DATE-TIME:20211215T193000
DTSTAMP;VALUE=DATE-TIME:20260425T232829Z
UID:2a0a4e7b68ec46ab8725dcac06011714@sde.unibo.it
CREATED;VALUE=DATE-TIME:20211130T080429Z
DESCRIPTION:L'evento si terrà il 15 dicembre dalle ore 17.00 presso l'Aul
 a Ruffilli - Strada Maggiore 45\, Bologna
LAST-MODIFIED;VALUE=DATE-TIME:20211130T080804Z
URL:https://sde.unibo.it/it/eventi/participation-and-resistance-through-ar
 ts-and-culture
END:VEVENT
BEGIN:VTIMEZONE
TZID:Europe/Rome
X-LIC-LOCATION:Europe/Rome
BEGIN:STANDARD
DTSTART;VALUE=DATE-TIME:20211031T020000
TZNAME:CET
TZOFFSETFROM:+0200
TZOFFSETTO:+0100
END:STANDARD
END:VTIMEZONE
END:VCALENDAR
