BEGIN:VCALENDAR
VERSION:2.0
PRODID:-//Plone.org//NONSGML plone.app.event//EN
X-WR-TIMEZONE:Europe/Rome
BEGIN:VEVENT
SUMMARY:Parliamone
DTSTART;TZID=Europe/Rome;VALUE=DATE-TIME:20181203T190000
DTEND;TZID=Europe/Rome;VALUE=DATE-TIME:20181203T210000
DTSTAMP;VALUE=DATE-TIME:20260423T123059Z
UID:443fca2d172b46f09744611ab32ca0fb@sde.unibo.it
CREATED;VALUE=DATE-TIME:20181203T084705Z
LAST-MODIFIED;VALUE=DATE-TIME:20181203T084733Z
URL:https://sde.unibo.it/it/eventi/parliamone
END:VEVENT
BEGIN:VTIMEZONE
TZID:Europe/Rome
X-LIC-LOCATION:Europe/Rome
BEGIN:STANDARD
DTSTART;VALUE=DATE-TIME:20181028T020000
TZNAME:CET
TZOFFSETFROM:+0200
TZOFFSETTO:+0100
END:STANDARD
END:VTIMEZONE
END:VCALENDAR
