BEGIN:VCALENDAR
VERSION:2.0
PRODID:-//Plone.org//NONSGML plone.app.event//EN
X-WR-TIMEZONE:Europe/Rome
BEGIN:VEVENT
SUMMARY:Palestra di Comunità
DTSTART;TZID=Europe/Rome;VALUE=DATE-TIME:20240605T100000
DTEND;TZID=Europe/Rome;VALUE=DATE-TIME:20240625T190000
DTSTAMP;VALUE=DATE-TIME:20260422T010412Z
UID:1b502f81735e4700b9b8f7baea15d216@sde.unibo.it
CREATED;VALUE=DATE-TIME:20240521T080856Z
LAST-MODIFIED;VALUE=DATE-TIME:20240523T085226Z
URL:https://sde.unibo.it/it/eventi/palestra-di-comunita
END:VEVENT
BEGIN:VTIMEZONE
TZID:Europe/Rome
X-LIC-LOCATION:Europe/Rome
BEGIN:DAYLIGHT
DTSTART;VALUE=DATE-TIME:20240331T030000
TZNAME:CEST
TZOFFSETFROM:+0100
TZOFFSETTO:+0200
END:DAYLIGHT
END:VTIMEZONE
END:VCALENDAR
