BEGIN:VCALENDAR
VERSION:2.0
PRODID:-//Plone.org//NONSGML plone.app.event//EN
X-WR-TIMEZONE:Europe/Rome
BEGIN:VEVENT
SUMMARY:Orfani di femminicidio: dalla ricerca all’intervento.
DTSTART;TZID=Europe/Rome;VALUE=DATE-TIME:20240315T110000
DTEND;TZID=Europe/Rome;VALUE=DATE-TIME:20240315T130000
DTSTAMP;VALUE=DATE-TIME:20260421T151305Z
UID:2b91c3d7b2214d7b9f4abaf9cdc05aa2@sde.unibo.it
CREATED;VALUE=DATE-TIME:20240129T112315Z
DESCRIPTION:Dott.ssa Carmen Bosco\, psicologa. Introduce la Professoressa 
 Sandra Sicurella
LAST-MODIFIED;VALUE=DATE-TIME:20240129T112315Z
URL:https://sde.unibo.it/it/eventi/orfani-di-femminicidio-dalla-ricerca-al
 l-intervento
END:VEVENT
BEGIN:VTIMEZONE
TZID:Europe/Rome
X-LIC-LOCATION:Europe/Rome
BEGIN:STANDARD
DTSTART;VALUE=DATE-TIME:20231029T020000
TZNAME:CET
TZOFFSETFROM:+0200
TZOFFSETTO:+0100
END:STANDARD
END:VTIMEZONE
END:VCALENDAR
