BEGIN:VCALENDAR
VERSION:2.0
PRODID:-//Plone.org//NONSGML plone.app.event//EN
X-WR-TIMEZONE:Europe/Rome
BEGIN:VEVENT
SUMMARY:Nuove tecniche applicate alla finanza
DTSTART;TZID=Europe/Rome;VALUE=DATE-TIME:20220301T100000
DTEND;TZID=Europe/Rome;VALUE=DATE-TIME:20220301T130000
DTSTAMP;VALUE=DATE-TIME:20260424T221428Z
UID:bfd5524f45bd41efb9c9bb1b403498a2@sde.unibo.it
CREATED;VALUE=DATE-TIME:20220228T164239Z
DESCRIPTION:Seminario con la presenza della Dott.ssa Cristina Evanghelia P
 apadimitriu
LAST-MODIFIED;VALUE=DATE-TIME:20220228T164358Z
URL:https://sde.unibo.it/it/eventi/nuove-tecniche-applicate-alla-finanza
END:VEVENT
BEGIN:VTIMEZONE
TZID:Europe/Rome
X-LIC-LOCATION:Europe/Rome
BEGIN:STANDARD
DTSTART;VALUE=DATE-TIME:20211031T020000
TZNAME:CET
TZOFFSETFROM:+0200
TZOFFSETTO:+0100
END:STANDARD
END:VTIMEZONE
END:VCALENDAR
