BEGIN:VCALENDAR
VERSION:2.0
PRODID:-//Plone.org//NONSGML plone.app.event//EN
X-WR-TIMEZONE:Europe/Rome
BEGIN:VEVENT
SUMMARY:Notte Europea dei Ricercatori
DTSTART;TZID=Europe/Rome;VALUE=DATE-TIME:20160930T180000
DTEND;TZID=Europe/Rome;VALUE=DATE-TIME:20161001T230000
DTSTAMP;VALUE=DATE-TIME:20260423T083541Z
UID:4bb805c717294b80b03654f39ae22f96@sde.unibo.it
CREATED;VALUE=DATE-TIME:20160927T063439Z
LAST-MODIFIED;VALUE=DATE-TIME:20160927T063447Z
URL:https://sde.unibo.it/it/eventi/notte-europea-dei-ricercatori
END:VEVENT
BEGIN:VTIMEZONE
TZID:Europe/Rome
X-LIC-LOCATION:Europe/Rome
BEGIN:DAYLIGHT
DTSTART;VALUE=DATE-TIME:20160327T030000
TZNAME:CEST
TZOFFSETFROM:+0100
TZOFFSETTO:+0200
END:DAYLIGHT
END:VTIMEZONE
END:VCALENDAR
