BEGIN:VCALENDAR
VERSION:2.0
PRODID:-//Plone.org//NONSGML plone.app.event//EN
X-WR-TIMEZONE:Europe/Rome
BEGIN:VEVENT
SUMMARY:Medaglia ISA per le Scienze a Robert Putman - 14 ottobre 2015
DTSTART;TZID=Europe/Rome;VALUE=DATE-TIME:20151014T160000
DTEND;TZID=Europe/Rome;VALUE=DATE-TIME:20151014T180000
DTSTAMP;VALUE=DATE-TIME:20260423T154100Z
UID:861ecc17e51b4da3bd956ac31ed808c4@sde.unibo.it
CREATED;VALUE=DATE-TIME:20151006T085326Z
LAST-MODIFIED;VALUE=DATE-TIME:20151006T085338Z
URL:https://sde.unibo.it/it/eventi/medaglia-isa-per-le-scienze-a-robert-pu
 tman-14-ottobre-2015
END:VEVENT
BEGIN:VTIMEZONE
TZID:Europe/Rome
X-LIC-LOCATION:Europe/Rome
BEGIN:DAYLIGHT
DTSTART;VALUE=DATE-TIME:20150329T030000
TZNAME:CEST
TZOFFSETFROM:+0100
TZOFFSETTO:+0200
END:DAYLIGHT
END:VTIMEZONE
END:VCALENDAR
