BEGIN:VCALENDAR
VERSION:2.0
PRODID:-//Plone.org//NONSGML plone.app.event//EN
X-WR-TIMEZONE:Europe/Rome
BEGIN:VEVENT
SUMMARY:Marx eretico
DTSTART;TZID=Europe/Rome;VALUE=DATE-TIME:20181218T170000
DTEND;TZID=Europe/Rome;VALUE=DATE-TIME:20181218T190000
DTSTAMP;VALUE=DATE-TIME:20260423T041844Z
UID:e12e40aebcbd47719e02c7ccfc15bd98@sde.unibo.it
CREATED;VALUE=DATE-TIME:20181212T111609Z
DESCRIPTION:Un sentiero interrotto\, quello di Marx?
LAST-MODIFIED;VALUE=DATE-TIME:20181212T111836Z
URL:https://sde.unibo.it/it/eventi/marx-eretico
END:VEVENT
BEGIN:VTIMEZONE
TZID:Europe/Rome
X-LIC-LOCATION:Europe/Rome
BEGIN:STANDARD
DTSTART;VALUE=DATE-TIME:20181028T020000
TZNAME:CET
TZOFFSETFROM:+0200
TZOFFSETTO:+0100
END:STANDARD
END:VTIMEZONE
END:VCALENDAR
