BEGIN:VCALENDAR
VERSION:2.0
PRODID:-//Plone.org//NONSGML plone.app.event//EN
X-WR-TIMEZONE:Europe/Rome
BEGIN:VEVENT
SUMMARY:Mappe del sociale II.
DTSTART;VALUE=DATE:20210315
DTEND;VALUE=DATE:20210604
DTSTAMP;VALUE=DATE-TIME:20260420T013624Z
UID:2368ec7de80849bca1f878747fa79488@sde.unibo.it
CREATED;VALUE=DATE-TIME:20201130T124110Z
DESCRIPTION:Temi\, problemi e linee di ricerca per esplorare il capitalism
 o delle infrastrutture.
LAST-MODIFIED;VALUE=DATE-TIME:20210310T085233Z
URL:https://sde.unibo.it/it/eventi/mappe-del-sociale
END:VEVENT
END:VCALENDAR
