BEGIN:VCALENDAR
VERSION:2.0
PRODID:-//Plone.org//NONSGML plone.app.event//EN
X-WR-TIMEZONE:Europe/Rome
BEGIN:VEVENT
SUMMARY:Mappe del sociale
DTSTART;TZID=Europe/Rome;VALUE=DATE-TIME:20210127T150000
DTEND;TZID=Europe/Rome;VALUE=DATE-TIME:20210127T170000
DTSTAMP;VALUE=DATE-TIME:20260424T160902Z
UID:d5c1904ed584455286c2bc8bd3e4ed4f@sde.unibo.it
CREATED;VALUE=DATE-TIME:20210125T101103Z
DESCRIPTION:Temi\, problemi e linee di ricerca per esplorare il capitalism
 o delle infrastrutture
LAST-MODIFIED;VALUE=DATE-TIME:20210125T101204Z
URL:https://sde.unibo.it/it/eventi/mappe-del-sociale-1
END:VEVENT
BEGIN:VTIMEZONE
TZID:Europe/Rome
X-LIC-LOCATION:Europe/Rome
BEGIN:STANDARD
DTSTART;VALUE=DATE-TIME:20201025T020000
TZNAME:CET
TZOFFSETFROM:+0200
TZOFFSETTO:+0100
END:STANDARD
END:VTIMEZONE
END:VCALENDAR
