BEGIN:VCALENDAR
VERSION:2.0
PRODID:-//Plone.org//NONSGML plone.app.event//EN
X-WR-TIMEZONE:Europe/Rome
BEGIN:VEVENT
SUMMARY:L'implementazione di schemi di reddito nella lotta alla povertà t
 ra sperimentazioni e nuove possibilità - SDE Lectures
DTSTART;TZID=Europe/Rome;VALUE=DATE-TIME:20240510T100000
DTEND;TZID=Europe/Rome;VALUE=DATE-TIME:20240510T130000
DTSTAMP;VALUE=DATE-TIME:20260419T134919Z
UID:01088bad04f94c32a7bd5936292feddf@sde.unibo.it
CREATED;VALUE=DATE-TIME:20240508T095448Z
LAST-MODIFIED;VALUE=DATE-TIME:20240508T095448Z
URL:https://sde.unibo.it/it/eventi/limplementazione-di-schemi-di-reddito-n
 ella-lotta-alla-poverta-tra-sperimentazioni-e-nuove-possibilita-sde-lectur
 es
END:VEVENT
BEGIN:VTIMEZONE
TZID:Europe/Rome
X-LIC-LOCATION:Europe/Rome
BEGIN:DAYLIGHT
DTSTART;VALUE=DATE-TIME:20240331T030000
TZNAME:CEST
TZOFFSETFROM:+0100
TZOFFSETTO:+0200
END:DAYLIGHT
END:VTIMEZONE
END:VCALENDAR
